BEGIN:VCALENDAR
VERSION:2.0
PRODID:-//Pacta - ECPv6.15.4//NONSGML v1.0//EN
CALSCALE:GREGORIAN
METHOD:PUBLISH
X-WR-CALNAME:Pacta
X-ORIGINAL-URL:https://www.pacta.org
X-WR-CALDESC:Eventi per Pacta
REFRESH-INTERVAL;VALUE=DURATION:PT1H
X-Robots-Tag:noindex
X-PUBLISHED-TTL:PT1H
BEGIN:VTIMEZONE
TZID:UTC
BEGIN:STANDARD
TZOFFSETFROM:+0000
TZOFFSETTO:+0000
TZNAME:UTC
DTSTART:20230101T000000
END:STANDARD
END:VTIMEZONE
BEGIN:VEVENT
DTSTART;TZID=UTC:20230101T000000
DTEND;TZID=UTC:20231224T235900
DTSTAMP:20260423T151320
CREATED:20230109T082445Z
LAST-MODIFIED:20230109T084125Z
UID:378568-1672531200-1703462340@www.pacta.org
SUMMARY:DAL QUARTO AL QUINTO STATO
DESCRIPTION:Storie di donne\, leggi\, conquiste da un quadro a un libro a cura di Ileana Alesso e Maria Eugenia D’Aquino | con Maria Eugenia D’Aquino\, Annig\nRaimondi | Musica e canzoni dal vivo Andrea Fabiano | Produzione PACTA . dei Teatri\nPartendo dalle origini del capolavoro esposto nel Museo del Novecento a Milano e grazie alla meticolosa ricostruzione del libro dell’avvocata Ileana Alesso\, prendono vita sulla scena\, in questa lettura scenica\, cento anni di leggi sul lavoro delle donne\, di conquiste\, di diritti negati e ottenuti\, persi e riguadagnati. Cento anni raccontati da storie\, canzoni\, film\, immagini\, poesie: al centro le donne\, alcune famose\, altre sconosciute.
URL:https://www.pacta.org/eventi/dal-quarto-al-quinto-stato/
CATEGORIES:ON-DEMAND
ATTACH;FMTTYPE=image/png:https://www.pacta.org/wp-content/uploads/2023/01/ondemand.png
END:VEVENT
BEGIN:VEVENT
DTSTART;VALUE=DATE:20230920
DTEND;VALUE=DATE:20231031
DTSTAMP:20260423T151320
CREATED:20230904T113405Z
LAST-MODIFIED:20230919T113449Z
UID:379517-1695168000-1698710399@www.pacta.org
SUMMARY:ZIO TUNGSTENO: PICCOLI ESPERIMENTI CON LA LUCE E IL BUIO
DESCRIPTION:20 settembre\, ore 17:30-19:30 | Parco della Resistenza\n22 settembre\, ore 17:30-19:30 | Parco Biblioteca Chiesa Rossa\n30 settembre\, ore 18:30 restituzione finale dei lavori | Parco Ravizza \nZIO TUNGSTENO: PICCOLI ESPERIMENTI CON LA LUCE E IL BUIO\nLaboratorio per bambini e famiglie tenuto da Fulvio Michelazzi – PACTA . dei Teatri \nIl laboratorio si orienta alla creazione e all’interazione con la propria ombra\, prima NERA poi COLORATA. All’inizio bambini e genitori arriveranno alla scoperta della luce attraverso un gioco con i cioccolatini M&M’s. Successivamente verranno stimolati a creare le ombre che il loro corpo proietta su uno schermo\, prima nere\, poi colorate; disegneranno la propria ombra su un grande foglio bianco e la coloreranno pensando a un grande eroe mitologico dell’antichità. Infine ritaglieranno le ombre per poi portarsele a casa.\nLa restituzione dei laboratori si affiancherà il 30 settembre alla performance VENERE E ADONE I miti da Ovidio a Shakespeare. \nGli appuntamenti sono parte del progetto AVVENTURE DI BAMBINI MOLTO ANTICHI – I Giardini delle Meraviglie. \nPer info: 02.36503740 – promozione@pacta.org
URL:https://www.pacta.org/eventi/zio-tungsteno-piccoli-esperimenti-con-la-luce-e-il-buio-3/
CATEGORIES:IN SCENA 22/23,IN SCENA 24/25,LABORATORI
ATTACH;FMTTYPE=image/jpeg:https://www.pacta.org/wp-content/uploads/2023/07/LaboratorioZioTungsteno-3-e1690477056117.jpg
END:VEVENT
BEGIN:VEVENT
DTSTART;TZID=UTC:20231003T103000
DTEND;TZID=UTC:20231030T000000
DTSTAMP:20260423T151320
CREATED:20230628T095108Z
LAST-MODIFIED:20230928T150215Z
UID:379053-1696329000-1698624000@www.pacta.org
SUMMARY:Giochiamo al Teatro: "Giù la maschera!"
DESCRIPTION:Un laboratorio tenuto da Riccardo Magherini di PACTA . dei Teatri con la Dea Cooperativa all’interno dei Campus estivi in Area didattica. \nUn percorso di avvicinamento al teatro a alle arti performative per bambini\, all’interno dei Campus estivi in Area didattica. Partendo dai personaggi/maschere della Commedia nell’Arte un viaggio alla scoperta delle maschere che incontriamo nella vita di tutti i giorni. \nI laboratori sono parte del programma di Milano è Viva del Comune di Milano. \n 
URL:https://www.pacta.org/eventi/giochiamo-al-teatro-narratori-di-storie-e-giu-la-maschera/
LOCATION:PACTA Salone\, VIA ULISSE DINI 7\, MILANO\, 20142\, Italia
CATEGORIES:A SPASSO D'UOMO - Milano è Viva,IN SCENA 24/25
ATTACH;FMTTYPE=image/jpeg:https://www.pacta.org/wp-content/uploads/2023/06/NarratoriDiStorie_lab-1-e1694620154395.jpeg
END:VEVENT
BEGIN:VEVENT
DTSTART;TZID=UTC:20231018T204500
DTEND;TZID=UTC:20231022T173000
DTSTAMP:20260423T151320
CREATED:20230911T114816Z
LAST-MODIFIED:20230911T114916Z
UID:379129-1697661900-1697995800@www.pacta.org
SUMMARY:UNPRINTED-Quello che non ti dicono
DESCRIPTION:L’idea dello spettacolo nasce nel contesto di “Unprotected”\, progetto di Campo Teatrale\, che vede collaborare artisti e compagnie diverse per la creazione di un progetto collettivo\, sotto la guida di “Compagnia Eco di Fondo”. \nAlice è una giovane aspirante scrittrice che si trova a fare i conti con un mondo del lavoro che le appare inaccessibile. La difficile realtà che le si prospetta\, la scoraggia. Non era preparata. Grazie al supporto e al sostegno della sua amica e coinquilina Maya\, però\, trova la forza di non darsi per vinta. Sostiene un colloquio per entrare a far parte di una testata giornalistica\, al fine di iniziare a vivere del suo mestiere e di intessere\, come le suggerisce Maya\, una rete di conoscenze. Conoscenze che magari potranno portare finalmente alla realizzazione della massima aspirazione di Alice: pubblicare il suo libro\, diventare una scrittrice.Quando\, però\, in gioco entra il mondo della redazione\, le cose si fanno più complicate e meno chiare.Ha inizio un gioco di luci e ombre\, in cui viene difficile riconoscere i confini della realtà e dove spesso è facile “cadere in trappola”.Quando anche la realtà è in vendita cosa si è disposti a fare pur di raggiungere uno scopo? \n			\n				\n				\n				\n				\n				CAST:\n				drammaturgia e regia Valentina Sichetticon Denise Brambillasca\, Gaia Carmagnani\, Eugenio Fea\, Ilaria Longocoproduzione Compagnia Caterpillar – PACTA Teatriorganizzazione Camilla Ambrosinidisegno luci Manfredi MichelazziIdea nata nell’ambito della realizzazione di “MisericordiaMisericordia” produzione di Campo TeatraleCampo Teatrale all’interno del progetto Unprotected \n			\n				\n				\n				\n				\n				NOTE SUL PROGETTO:\n				“Unprinted” è tutto quello che c’è di inedito\, di non pubblicato\, di “poco interessante”\, perché la vita\, quella vera\, non è sempre interessante.Ciò che non trova spazio nella pagina è la fatica\, la frustrazione\, la nausea di chi deve portare a casa il risultato. Perché è questo che conta. Il risultato.Non ci interessa come l’hai ottenuto\, purché tu lo ottenga. Del resto\, a nessuno importa se la storia che racconti è vera\, finché la racconti. Che sia su Instagram\, Facebook\, a cena con gli amici\, in un’epoca performativa come la nostra\, siamo la storia che raccontiamo. E nessuno racconta della fatica\, dei compromessi. Solo del risultato\, purché sia un successo.Come dice ad un certo punto la direttrice del giornale\, Iole: “Lascia che vedano solo i fiori e le farfalle e magari col tempo\, la puzza di merda te la dimentichi”.Vittime di una narrazione che rende conto solo dei successi\, nella vita\, quella vera\, ci si trova spesso impreparati di fronte a “Quello che non ti dicono”.E così sarà per i nostri protagonisti.Unprinted racconta di un’umanità che nella ricerca di se stessa\, dimentica dove trovarsi. Continua disperatamente a cercare. Ma\, forse\, nel posto sbagliato. \n			\n				\n				\n				\n				\n				ORARI:\n				mercoledì 20:45 \ngiovedì 19:00 \nvenerdì 20:45 \nsabato 20:45 \ndomenica 17:30 \n			\n				\n				\n				\n				\n				BIGLIETTI\n				Biglietti: intero 24€ – ridotto under 25 / over 60 12€ \nAcquista online e risparmi il 25% sul biglietto intero! \n			\n				ACQUISTA BIGLIETTI
URL:https://www.pacta.org/eventi/unprinted-quello-che-non-ti-dicono/
LOCATION:PACTA Salone\, VIA ULISSE DINI 7\, MILANO\, 20142\, Italia
CATEGORIES:IN SCENA 24/25,VETRINA CONTEMPORANEA
ATTACH;FMTTYPE=image/jpeg:https://www.pacta.org/wp-content/uploads/2023/07/Unprinted_CompagniaCaterpillar-3-e1690283680217.jpg
END:VEVENT
BEGIN:VEVENT
DTSTART;TZID=UTC:20231018T204500
DTEND;TZID=UTC:20231022T173000
DTSTAMP:20260423T151320
CREATED:20230912T101614Z
LAST-MODIFIED:20231010T143056Z
UID:379870-1697661900-1697995800@www.pacta.org
SUMMARY:UNPRINTED-Quello che non ti dicono (replica su richiesta)
DESCRIPTION:L’idea dello spettacolo nasce nel contesto di “Unprotected”\, progetto di Campo Teatrale\, che vede collaborare artisti e compagnie diverse per la creazione di un progetto collettivo\, sotto la guida di “Compagnia Eco di Fondo”. \nAlice è una giovane aspirante scrittrice che si trova a fare i conti con un mondo del lavoro che le appare inaccessibile. La difficile realtà che le si prospetta\, la scoraggia. Non era preparata. Grazie al supporto e al sostegno della sua amica e coinquilina Maya\, però\, trova la forza di non darsi per vinta. Sostiene un colloquio per entrare a far parte di una testata giornalistica\, al fine di iniziare a vivere del suo mestiere e di intessere\, come le suggerisce Maya\, una rete di conoscenze. Conoscenze che magari potranno portare finalmente alla realizzazione della massima aspirazione di Alice: pubblicare il suo libro\, diventare una scrittrice.Quando\, però\, in gioco entra il mondo della redazione\, le cose si fanno più complicate e meno chiare.Ha inizio un gioco di luci e ombre\, in cui viene difficile riconoscere i confini della realtà e dove spesso è facile “cadere in trappola”.Quando anche la realtà è in vendita cosa si è disposti a fare pur di raggiungere uno scopo? \n			\n				\n				\n				\n				\n				CAST:\n				drammaturgia e regia Valentina Sichetticon Denise Brambillasca\, Gaia Carmagnani\, Eugenio Fea\, Ilaria Longocoproduzione Compagnia Caterpillar – PACTA Teatriorganizzazione Camilla Ambrosinidisegno luci Manfredi MichelazziIdea nata nell’ambito della realizzazione di “MisericordiaMisericordia” produzione di Campo TeatraleCampo Teatrale all’interno del progetto Unprotected \n			\n				\n				\n				\n				\n				NOTE SUL PROGETTO:\n				“Unprinted” è tutto quello che c’è di inedito\, di non pubblicato\, di “poco interessante”\, perché la vita\, quella vera\, non è sempre interessante.Ciò che non trova spazio nella pagina è la fatica\, la frustrazione\, la nausea di chi deve portare a casa il risultato. Perché è questo che conta. Il risultato.Non ci interessa come l’hai ottenuto\, purché tu lo ottenga. Del resto\, a nessuno importa se la storia che racconti è vera\, finché la racconti. Che sia su Instagram\, Facebook\, a cena con gli amici\, in un’epoca performativa come la nostra\, siamo la storia che raccontiamo. E nessuno racconta della fatica\, dei compromessi. Solo del risultato\, purché sia un successo.Come dice ad un certo punto la direttrice del giornale\, Iole: “Lascia che vedano solo i fiori e le farfalle e magari col tempo\, la puzza di merda te la dimentichi”.Vittime di una narrazione che rende conto solo dei successi\, nella vita\, quella vera\, ci si trova spesso impreparati di fronte a “Quello che non ti dicono”.E così sarà per i nostri protagonisti.Unprinted racconta di un’umanità che nella ricerca di se stessa\, dimentica dove trovarsi. Continua disperatamente a cercare. Ma\, forse\, nel posto sbagliato. \n			\n				\n				\n				\n				\n				ORARI:\n				mercoledì 20:45 \ngiovedì 19:00 \nvenerdì 20:45 \nsabato 20:45 \ndomenica 17:30 \n			\n				\n				\n				\n				\n				BIGLIETTI\n				Biglietti: intero 24€ – ridotto under 25 / over 60 12€ \nAcquista online e risparmi il 25% sul biglietto intero! \n			\n				ACQUISTA BIGLIETTI
URL:https://www.pacta.org/eventi/unprinted-quello-che-non-ti-dicono-replica-su-richiesta/
LOCATION:PACTA Salone\, VIA ULISSE DINI 7\, MILANO\, 20142\, Italia
CATEGORIES:REPLICHE SCOLASTICHE
ATTACH;FMTTYPE=image/jpeg:https://www.pacta.org/wp-content/uploads/2023/07/Unprinted_CompagniaCaterpillar-3-e1690283680217.jpg
END:VEVENT
END:VCALENDAR