BEGIN:VCALENDAR
VERSION:2.0
PRODID:-//Pacta - ECPv6.15.4//NONSGML v1.0//EN
CALSCALE:GREGORIAN
METHOD:PUBLISH
X-ORIGINAL-URL:https://www.pacta.org
X-WR-CALDESC:Eventi per Pacta
REFRESH-INTERVAL;VALUE=DURATION:PT1H
X-Robots-Tag:noindex
X-PUBLISHED-TTL:PT1H
BEGIN:VTIMEZONE
TZID:UTC
BEGIN:STANDARD
TZOFFSETFROM:+0000
TZOFFSETTO:+0000
TZNAME:UTC
DTSTART:20230101T000000
END:STANDARD
END:VTIMEZONE
BEGIN:VEVENT
DTSTART;TZID=UTC:20230531T210000
DTEND;TZID=UTC:20230531T223000
DTSTAMP:20260419T143746
CREATED:20230530T130306Z
LAST-MODIFIED:20230530T130358Z
UID:378978-1685566800-1685572200@www.pacta.org
SUMMARY:SHOCKING ELSA al Museo del Tessile\, Busto Arsizio
DESCRIPTION:Nell’ambito della mostra di arte tessile Miniartextil Rosa Alchemico che è allestita fino all’11 giugno al Museo del Tessile\, mercoledì 31 maggio in Sala Gemella andrà in scena lo spettacolo “Shocking Elsa”. L’ingresso è libero. \nUn’artista straordinaria della moda italiana\, Elsa Schiaparelli. Un modello di donna indipendente\, intraprendente\, capace di sfidare il sistema in nome della sua creatività e delle sue intuizioni rivoluzionarie. La rivalità con Coco Chanel\, la difficoltà di affermarsi in terra straniera\, gli anni di resistenza durante la guerra: tutti questi episodi fanno della vita di Elsa un filtro per guardare il presente e trovare un punto di vista che suggerisce sempre una via d’uscita\, un’occasione di rinascita. \nIn scena Schiap\, come amava farsi chiamare\, col suo fare ironico e sferzante\, apostrofa divertita l’invisibile presentatore di un improbabile quiz. Un set televisivo allestito per lei sola\, unica concorrente in gara alle porte dell’aldilà\, un passo prima dell’oblio dell’incoscienza. Per rispondere al quiz è costretta a indagare sé stessa e a non trascurare nessuna punta aguzza\, anche quelle che graffiano e fanno male. È stata tante cose in vita: stilista\, amante\, inventrice\, madre\, ribelle\, immigrata. Ma in quest’ultimo confronto\, cosa scoprirà? Tra Parigi\, Roma\, Svizzera e Stati Uniti un viaggio rosa shocking\, come il colore inventato da Schiap. \nideazione di Maria Eugenia D’Aquino\, Alberto Oliva\, Ilaria Arosio\ndrammaturgia Livia Castiglioni\nregia Alberto Oliva\ncon Maria Eugenia D’Aquino\nvoce off Riccardo Magherini\ndisegno luci Fulvio Michelazzi\nvisual designer Filippo Rossi\, Selene Sanua\, Christian Bona – Galattico Studio\nmusiche originali “Ho creato vestiti con le stelle” Maurizio Pisati\ncostumi e accessori ideati da Angelica Megna\, Adriana Cappellari e Gaia dell’Elba\, IAAD Istituto di Arte Applicata e Design\, corso di Storia del Costume e della Moda di Francesca Interlenghi\nrealizzati da Cristina Ongania e Mirella Salvischiani\nparrucca e acconciatura Paride Parrucche Milano\ncostruzioni Eliel Ferreira\nassistente alla regia Fabrizio Kofler\nproduzione PACTA . dei Teatro \nDurata 70’ \n  \n 
URL:https://www.pacta.org/eventi/shocking-elsa-al-museo-del-tessile-busto-arsizio/
LOCATION:Museo del Tessile\, Sala Gemella\, Busto Arsizio
CATEGORIES:IN SCENA 22/23,TOURNÉE
ATTACH;FMTTYPE=image/jpeg:https://www.pacta.org/wp-content/uploads/2022/07/SHOCKING-ELSA-3.jpg
END:VEVENT
END:VCALENDAR