BEGIN:VCALENDAR
VERSION:2.0
PRODID:-//Pacta - ECPv6.15.4//NONSGML v1.0//EN
CALSCALE:GREGORIAN
METHOD:PUBLISH
X-WR-CALNAME:Pacta
X-ORIGINAL-URL:https://www.pacta.org
X-WR-CALDESC:Eventi per Pacta
REFRESH-INTERVAL;VALUE=DURATION:PT1H
X-Robots-Tag:noindex
X-PUBLISHED-TTL:PT1H
BEGIN:VTIMEZONE
TZID:UTC
BEGIN:STANDARD
TZOFFSETFROM:+0000
TZOFFSETTO:+0000
TZNAME:UTC
DTSTART:20220101T000000
END:STANDARD
END:VTIMEZONE
BEGIN:VEVENT
DTSTART;TZID=UTC:20220701T000000
DTEND;TZID=UTC:20220701T000000
DTSTAMP:20260424T092531
CREATED:20220728T090126Z
LAST-MODIFIED:20220728T090126Z
UID:376771-1656633600-1656633600@www.pacta.org
SUMMARY:IL PRANZO DELLE STORIE DI FIGINO
DESCRIPTION:Drammaturgia Lorena Nocera \ncon Lorena Nocera\, Gilberto Colla\, Marco Pepe \nmusiche originali eseguite dal vivo da La Scapigliatura \nregia Marzia Loriga \nproduzione Teatro Alkaest \n  \nInvitiamo la popolazione a partecipare ad una grande tavolata. Ogni abitante che desideri prendere parte al pranzo è invitato a portare con sé un cibo tipico della sua cultura o il ricordo d’una pietanza significativa della propria storia. Storie che verranno recitate\, insieme a pezzi d’autore\, la sera dello spettacolo dagli attori o riferite dai partecipanti stessi che vogliano farlo. Questa iniziativa ha un particolare valore di condivisione comunitaria in un luogo che ospita una variegato tessuto sociale.
URL:https://www.pacta.org/eventi/il-pranzo-delle-storie-di-figino/
LOCATION:CASE PRIVATE DI FIGINO BORGO SOSTENIBILE\, MUNICIPIO 7\, Via Giovanni Battista Rasario\,14\, FIGINO\, MI\, 20153
CATEGORIES:A SPASSO D'UOMO - Milano è Viva
END:VEVENT
BEGIN:VEVENT
DTSTART;TZID=UTC:20220617T080000
DTEND;TZID=UTC:20220617T170000
DTSTAMP:20260424T092531
CREATED:20220728T084825Z
LAST-MODIFIED:20220728T084902Z
UID:376765-1655452800-1655485200@www.pacta.org
SUMMARY:I FRATI MINORI CAPPUCCINI nei Promessi Sposi
DESCRIPTION:regia Annig Raimondi \nproduzione PACTA . dei Teatri in collaborazione con l’Ordine Francescano Frati Minori Cappuccini \n  \nDalla storia di questo importante e coraggioso ordine alle parole di Alessandro Manzoni sul loro impegno per la comunità sofferente. Una performance all’interno di una particolarissima chiesa di Milano\, SS. Crocifisso a Musocco\, con letture e musiche. L’evento vuole coinvolgere i cittadini attraverso la diffusione di argomenti letterari e sociali della storia di Milano\, destare curiosità verso figure e realtà che hanno contribuito all’evoluzione del territorio (i Frati Cappuccini) e rafforzare il senso di comunità del territorio.
URL:https://www.pacta.org/eventi/i-frati-minori-cappuccini-nei-promessi-sposi/
LOCATION:CHIESA SS.CROCIFISSO\, MUNICIPIO 8\, Piazzale Cimitero Maggiore\,5\, MILANO\, 20151
CATEGORIES:A SPASSO D'UOMO - Milano è Viva
END:VEVENT
END:VCALENDAR